Workbook

Sheet concesionesXLSX
A1: Administración | B1: Departamento | C1: Órgano | D1: Código BDNS | E1: Convocatoria | F1: URL de las BBRR | G1: Código de concesión | H1: Fecha de concesión | I1: Fecha de registro | J1: Beneficiario | K1: Importe | L1: Instrumento | M1: Ayuda equivalente
A2: LOCAL | B2: PALMAS DE GRAN CANARIA, LAS | C2: AYUNTAMIENTO DE LAS PALMAS DE GRAN CANARIA | D2: 894849 | E2: RES 125, 24/03/26, DE LA PRESIDENCIA DEL IMD, POR LA QUE SE RESUELVE AUTORIZAR EL GASTO, APROBAR LA CONVOCATORIA Y ANEXOS CORRESPONDIENTES A LA CONVOCATORIA DE SUBVENCIONES DEL IMD, EN RÉGIMEN DE CC, DESTINADAS AL FOMENTO DEL DEPORTE ADAPTADO | F2: https://deporteslaspalmasgc.com | G2: SB157459849 | H2: 24/09/2026 | I2: 24/09/2026 | J2: G35249069 ASOC DEPORTIVA DE MINUSVALIDOS ECONY | K2: 6000 | L2: SUBVENCIÓN y ENTREGA DINERARIA SIN CONTRAPRESTACIÓN | M2: 6000
A3: AUTONOMICA | B3: CANARIAS | C3: CONSEJERÍA DE EDUCACIÓN, FORMACIÓN PROFESIONAL, ACTIVIDAD FÍSICA Y DEPORTES | D3: 868522 | E3: DESPLAZAMIENTOS A ACTIVIDADES DEPORTIVAS | F3: https://www.gobiernodecanarias.org/boc/2019/245/001.html | G3: SB156632850 | H3: 07/08/2026 | I3: 28/08/2026 | J3: G35249069 ASOCIACION DEPORTIVA DE MINUSVALIDONY | K3: 6496.96 | L3: SUBVENCIÓN y ENTREGA DINERARIA SIN CONTRAPRESTACIÓN | M3: 6496.96
A4: LOCAL | B4: CABILDO INSULAR DE GRAN CANARIA | C4: INSTITUTO INS. DE DEPORTES DE GRAN CANARIA | D4: 920956 | E4: CONVOCATORIA DE SUBVENCIONES PARA SUFRAGAR GASTOS SOPORTADOS POR LOS CLUBES DEPORTIVOS DE GRAN CANARIA POR LA SITUACIÓN DE SU PARTICIPACIÓN EN COMPETICIONES OFICIALES DE ÁMBITO INTERNACIONAL EN LA TEMPORADA 2025/2026 | F4: http://cabildo.grancanaria.com/documents/10180/461059/Ordenanza+General+de+Subvenciones+del+Cabildo+de+Gran+Canaria./ba4aae17-0ce8-4464-9fa0-6e378c4113d0?version=1.0 | G4: SB155813644 | H4: 31/07/2026 | I4: 31/07/2026 | J4: G35249069 ASOC DEPORTIVA DE MINUSVALIDOS ECONY | K4: 20000 | L4: SUBVENCIÓN y ENTREGA DINERARIA SIN CONTRAPRESTACIÓN | M4: 20000
A5: LOCAL | B5: CABILDO INSULAR DE GRAN CANARIA | C5: INSTITUTO DE ATENCION SOCIAL Y SOCIO-SANITARIO | D5: 918854 | E5: Escuela de BSR Econy Gran Canaria Accesible 2026 | F5: https://ias.sedelectronica.es/ | G5: SB155327482 | H5: 01/07/2026 | I5: 16/07/2026 | J5: G35249069 ASOC DEPORTIVA DE MINUSVALIDOS ECONY | K5: 15000 | L5: SUBVENCIÓN y ENTREGA DINERARIA SIN CONTRAPRESTACIÓN | M5: 15000
A6: AUTONOMICA | B6: CANARIAS | C6: CONSEJERÍA DE EDUCACIÓN, FORMACIÓN PROFESIONAL, ACTIVIDAD FÍSICA Y DEPORTES | D6: 877613 | E6: Clubes deportivos canarios 2026 | F6: https://www.gobiernodecanarias.org/boc/2025/017/330.html | G6: SB152615523 | H6: 18/05/2026 | I6: 01/06/2026 | J6: G35249069 ASOCIACION DEPORTIVA DE MINUSVALIDONY | K6: 59700 | L6: SUBVENCIÓN y ENTREGA DINERARIA SIN CONTRAPRESTACIÓN | M6: 59700
A7: AUTONOMICA | B7: CANARIAS | C7: CONSEJERÍA DE EDUCACIÓN, FORMACIÓN PROFESIONAL, ACTIVIDAD FÍSICA Y DEPORTES | D7: 877613 | E7: Clubes deportivos canarios 2026 | F7: https://www.gobiernodecanarias.org/boc/2025/017/330.html | G7: SB151929141 | H7: 18/05/2026 | I7: 19/05/2026 | J7: G35249069 ASOCIACION DEPORTIVA DE MINUSVALIDONY | K7: 82373.26 | L7: SUBVENCIÓN y ENTREGA DINERARIA SIN CONTRAPRESTACIÓN | M7: 82373.26
A8: AUTONOMICA | B8: CANARIAS | C8: CONSEJERÍA DE EDUCACIÓN, FORMACIÓN PROFESIONAL, ACTIVIDAD FÍSICA Y DEPORTES | D8: 868522 | E8: DESPLAZAMIENTOS A ACTIVIDADES DEPORTIVAS | F8: https://www.gobiernodecanarias.org/boc/2019/245/001.html | G8: SB154712326 | H8: 12/05/2026 | I8: 08/07/2026 | J8: G35249069 ASOCIACION DEPORTIVA DE MINUSVALIDONY | K8: 4904.07 | L8: SUBVENCIÓN y ENTREGA DINERARIA SIN CONTRAPRESTACIÓN | M8: 4904.07
A9: LOCAL | B9: PALMAS DE GRAN CANARIA, LAS | C9: AYUNTAMIENTO DE LAS PALMAS DE GRAN CANARIA | D9: 903442 | E9: RES 192, 30/04/26, DE LA PRESIDENCIA DEL IMD POR LA QIE SE CONCEDE LA SUBVENCIÓN NOMINATIVA A ASOC DEPORTIVA DE MINUSVALIDOS ECONY POR SU PARTICION EN COMPETIONES OFICIALES | F9: https://deporteslaspalmasgc.com | G9: SB151086477 | H9: 30/04/2026 | I9: 05/05/2026 | J9: G35249069 ASOC DEPORTIVA DE MINUSVALIDOS ECONY | K9: 65000 | L9: SUBVENCIÓN y ENTREGA DINERARIA SIN CONTRAPRESTACIÓN | M9: 65000
A10: LOCAL | B10: CABILDO INSULAR DE GRAN CANARIA | C10: INSTITUTO INS. DE DEPORTES DE GRAN CANARIA | D10: 906575 | E10: Subvención nominativa a favor de la Asociación Deportiva de Minusválidos Econy para ayuda a la gestión - 2º pago de la temporada 2025/2026. | F10: https://transparencia.grancanaria.com/documents/150668/1274749/Ordenanza+General+de+Subvenciones+del+Cabildo+de+Gran+Canaria.pdf/12857022-e8e6-c930-4d86-3b64c83a59be?t=1709038908494 | G10: SB151902172 | H10: 12/03/2026 | I10: 19/05/2026 | J10: G35249069 ASOC DEPORTIVA DE MINUSVALIDOS ECONY | K10: 112500 | L10: SUBVENCIÓN y ENTREGA DINERARIA SIN CONTRAPRESTACIÓN | M10: 112500
A11: AUTONOMICA | B11: CANARIAS | C11: CONSEJERÍA DE EDUCACIÓN, FORMACIÓN PROFESIONAL, ACTIVIDAD FÍSICA Y DEPORTES | D11: 906973 | E11: CLUBES DE ÉLITE 2026 - C.D. AGRUPACION DEPORTIVA DE MINUSVALIDOS ECONY | F11: https://sede.gobiernodecanarias.org/sede/ | G11: SB152059337 | H11: 03/03/2026 | I11: 20/05/2026 | J11: G35249069 ASOCIACION DEPORTIVA DE MINUSVALIDONY | K11: 36797.95 | L11: SUBVENCIÓN y ENTREGA DINERARIA SIN CONTRAPRESTACIÓN | M11: 36797.95
A12: LOCAL | B12: PALMAS DE GRAN CANARIA, LAS | C12: AYUNTAMIENTO DE LAS PALMAS DE GRAN CANARIA | D12: 834611 | E12: Res 259, de la presidencia del IMD, 23/05/25, por la que se resuelve autorizar el gasto, aprobar la convocatoria y anexos de la convocatoria de subvenciones del IMD, en régimen de c.c, destinadas al fomento del deporte adaptado 24/25 | F12: https://deporteslaspalmasgc.com | G12: SB136698060 | H12: 23/11/2025 | I12: 25/11/2025 | J12: G35249069 ASOC DEPORTIVA DE MINUSVALIDOS ECONY | K12: 7500 | L12: SUBVENCIÓN y ENTREGA DINERARIA SIN CONTRAPRESTACIÓN | M12: 7500
A13: AUTONOMICA | B13: CANARIAS | C13: CONSEJERÍA DE EDUCACIÓN, FORMACIÓN PROFESIONAL, ACTIVIDAD FÍSICA Y DEPORTES | D13: 841464 | E13: SUBVENCIÓN DICAPACIDAD - 2025 | F13: https://sede.gobiernodecanarias.org/sede/ | G13: SB136298011 | H13: 10/11/2025 | I13: 12/11/2025 | J13: G35249069 ASOCIACION DEPORTIVA DE MINUSVALIDONY | K13: 7394.65 | L13: SUBVENCIÓN y ENTREGA DINERARIA SIN CONTRAPRESTACIÓN | M13: 7394.65

Sheet Resumen
B2: ASOCIACIÓN DEPORTIVA DE MINUSVÁLIDOS ECONY · CIF G35249069
B3: Subvenciones y Ayudas Públicas 2025 - 2026
B4: Cifras calculadas con fórmulas a partir de la hoja «concesionesXLSX» (datos originales, sin modificar).
B6: Totales
B7: N.º de concesiones | D7: =COUNTA(concesionesXLSX!$G$2:$G$13) -> 12
B8: Importe total concedido | D8: =SUM(concesionesXLSX!$K$2:$K$13) -> 423666.89
B9: Ayuda equivalente total | D9: =SUM(concesionesXLSX!$M$2:$M$13) -> 423666.89
B10: Comprobación: importe = ayuda equivalente | D10: =IF(ROUND(SUM(concesionesXLSX!$K$2:$K$13)-SUM(concesionesXLSX!$M$2:$M$13),2)=0,"OK","REVISAR") -> OK
B12: Por tipo de administración
B13: Concepto | C13: N.º | D13: Importe
B14: Local | C14: =COUNTIF(concesionesXLSX!$A$2:$A$13,"LOCAL") -> 6 | D14: =SUMIFS(concesionesXLSX!$K$2:$K$13,concesionesXLSX!$A$2:$A$13,"LOCAL") -> 226000
B15: Autonómica | C15: =COUNTIF(concesionesXLSX!$A$2:$A$13,"AUTONOMICA") -> 6 | D15: =SUMIFS(concesionesXLSX!$K$2:$K$13,concesionesXLSX!$A$2:$A$13,"AUTONOMICA") -> 197666.89
B16: Total | C16: =SUM(C14:C15) -> 12 | D16: =SUM(D14:D15) -> 423666.89
B18: Por órgano concedente
B19: Concepto | C19: N.º | D19: Importe
B20: AYUNTAMIENTO DE LAS PALMAS DE GRAN CANARIA | C20: =COUNTIF(concesionesXLSX!$C$2:$C$13,"AYUNTAMIENTO DE LAS PALMAS DE GRAN CANARIA") -> 3 | D20: =SUMIFS(concesionesXLSX!$K$2:$K$13,concesionesXLSX!$C$2:$C$13,"AYUNTAMIENTO DE LAS PALMAS DE GRAN CANARIA") -> 78500
B21: CONSEJERÍA DE EDUCACIÓN, FORMACIÓN PROFESIONAL, ACTIVIDAD FÍSICA Y DEPORTES | C21: =COUNTIF(concesionesXLSX!$C$2:$C$13,"CONSEJERÍA DE EDUCACIÓN, FORMACIÓN PROFESIONAL, ACTIVIDAD FÍSICA Y DEPORTES") -> 6 | D21: =SUMIFS(concesionesXLSX!$K$2:$K$13,concesionesXLSX!$C$2:$C$13,"CONSEJERÍA DE EDUCACIÓN, FORMACIÓN PROFESIONAL, ACTIVIDAD FÍSICA Y DEPORTES") -> 197666.89
B22: INSTITUTO INS. DE DEPORTES DE GRAN CANARIA | C22: =COUNTIF(concesionesXLSX!$C$2:$C$13,"INSTITUTO INS. DE DEPORTES DE GRAN CANARIA") -> 2 | D22: =SUMIFS(concesionesXLSX!$K$2:$K$13,concesionesXLSX!$C$2:$C$13,"INSTITUTO INS. DE DEPORTES DE GRAN CANARIA") -> 132500
B23: INSTITUTO DE ATENCION SOCIAL Y SOCIO-SANITARIO | C23: =COUNTIF(concesionesXLSX!$C$2:$C$13,"INSTITUTO DE ATENCION SOCIAL Y SOCIO-SANITARIO") -> 1 | D23: =SUMIFS(concesionesXLSX!$K$2:$K$13,concesionesXLSX!$C$2:$C$13,"INSTITUTO DE ATENCION SOCIAL Y SOCIO-SANITARIO") -> 15000
B24: Total | C24: =SUM(C20:C23) -> 12 | D24: =SUM(D20:D23) -> 423666.89
B26: Por año de concesión
B27: Concepto | C27: N.º | D27: Importe
B28: 2025 | C28: =SUMPRODUCT(--(RIGHT(concesionesXLSX!$H$2:$H$13,4)="2025")) -> 2 | D28: =SUMPRODUCT(--(RIGHT(concesionesXLSX!$H$2:$H$13,4)="2025"),concesionesXLSX!$K$2:$K$13) -> 14894.65
B29: 2026 | C29: =SUMPRODUCT(--(RIGHT(concesionesXLSX!$H$2:$H$13,4)="2026")) -> 10 | D29: =SUMPRODUCT(--(RIGHT(concesionesXLSX!$H$2:$H$13,4)="2026"),concesionesXLSX!$K$2:$K$13) -> 408772.24
B30: Total | C30: =SUM(C28:C29) -> 12 | D30: =SUM(D28:D29) -> 423666.89
